BEGIN:VCALENDAR
VERSION:2.0
PRODID:-//Verborgene Horizonte - ECPv6.15.20//NONSGML v1.0//EN
CALSCALE:GREGORIAN
METHOD:PUBLISH
X-ORIGINAL-URL:https://verborgene-horizonte.de
X-WR-CALDESC:Veranstaltungen für Verborgene Horizonte
REFRESH-INTERVAL;VALUE=DURATION:PT1H
X-Robots-Tag:noindex
X-PUBLISHED-TTL:PT1H
BEGIN:VTIMEZONE
TZID:Europe/Berlin
BEGIN:DAYLIGHT
TZOFFSETFROM:+0100
TZOFFSETTO:+0200
TZNAME:CEST
DTSTART:20240331T010000
END:DAYLIGHT
BEGIN:STANDARD
TZOFFSETFROM:+0200
TZOFFSETTO:+0100
TZNAME:CET
DTSTART:20241027T010000
END:STANDARD
BEGIN:DAYLIGHT
TZOFFSETFROM:+0100
TZOFFSETTO:+0200
TZNAME:CEST
DTSTART:20250330T010000
END:DAYLIGHT
BEGIN:STANDARD
TZOFFSETFROM:+0200
TZOFFSETTO:+0100
TZNAME:CET
DTSTART:20251026T010000
END:STANDARD
BEGIN:DAYLIGHT
TZOFFSETFROM:+0100
TZOFFSETTO:+0200
TZNAME:CEST
DTSTART:20260329T010000
END:DAYLIGHT
BEGIN:STANDARD
TZOFFSETFROM:+0200
TZOFFSETTO:+0100
TZNAME:CET
DTSTART:20261025T010000
END:STANDARD
END:VTIMEZONE
BEGIN:VEVENT
DTSTART;TZID=Europe/Berlin:20251003T100000
DTEND;TZID=Europe/Berlin:20251003T130000
DTSTAMP:20260423T160129
CREATED:20250924T184443Z
LAST-MODIFIED:20250924T184517Z
UID:194-1759485600-1759496400@verborgene-horizonte.de
SUMMARY:Im Rhythmus in der Farben
DESCRIPTION:„Intuition ist die Sprache des Gefühls und das Flüstern der Seele“ – Kunst\, die berührt – Workshops\, die inspirieren- Freude\, die bleibt\nBilder lebendig werden zu lassen\, die berühren und die Seele voller Glück tanzen lassen\, ist mir eine Herzensfreude. Jedes Werk beginnt aus einem Moment der inneren Stille\, es ist wie ein Eintauchen in eine Welt jenseits von Zeit und Raum.\nEs ist die Freude am Tun selbst\, ein Gefühl\, ich höre hin\, nehme war und folge dem Fluss meiner inneren Inspiration. Und dann fließt Farbe auf Leinwand\, ein Tanz aus Energie\, Komposition\, Technik und Intuition.\nIn einer Welt voller Geschwindigkeit bietet meine Kunst einen Gegenpol.\nSie lädt ein\, schafft Raum für Emotionen\, Raum für das Wesentliche:\nAnkommen\, spüren\, loslassen – in Deiner Welt\, in Deinem Herzen.\nSo werden meine Bilder zu stillen Begleitern\, zu Quellen der Lebensfreude\, getragen von Liebe\, Harmonie und der Schönheit des Augenblicks. \nIch arbeite in verschiedenen Serien\, Farbwelten und Themen\, und doch schwingen alle Werke im Einklang miteinander. Von zarten\, leisen Nuancen bis hin zu lebendigen Farbexplosionen\,\nvon abstrakt bis gegenständlich. \nDie Magie hinter den Dingen spürbar machen zu können ist wunderbar\, sie mit Dir teilen zu dürfen ein wahres Geschenk
URL:https://verborgene-horizonte.de/event/im-rhythmus-in-der-farben/
LOCATION:BY
CATEGORIES:Vernissage
ATTACH;FMTTYPE=image/jpeg:https://verborgene-horizonte.de/wp-content/uploads/2025/09/Schorr.jpg
END:VEVENT
BEGIN:VEVENT
DTSTART;TZID=Europe/Berlin:20251003T150000
DTEND;TZID=Europe/Berlin:20251003T180000
DTSTAMP:20260423T160129
CREATED:20250923T122449Z
LAST-MODIFIED:20250923T122449Z
UID:96-1759503600-1759514400@verborgene-horizonte.de
SUMMARY:Architektur trifft Abstraktes
DESCRIPTION:Michael Fleckenstein \n  \nGeboren 1953 in München \nMichael Fleckenstein\, geboren im Jahr 1953 in München\, ist ein vielseitig talentierter Künstler\, der sein Leben der kreativen Erkundung und dem ständigen Experimentieren widmet. Seit sechs Jahren genießt er seinen Ruhestand in Vilshofen\, nachdem er beruflich in der Metallbranche\, genauer im Sondermaschinenbau\, tätig war. \nKünstlerische Leidenschaft und Vielfalt \nSeine Leidenschaft\, alles Mögliche auszuprobieren\, hat ihn zu einem wahrhaft autodidaktischen Künstler gemacht. Michael beschäftigt sich mit einer beeindruckenden Bandbreite an künstlerischen Disziplinen\, darunter Bildhauerei\, Schreinerei\, Zeichnen (mit Bleistift) sowie Malerei mit Öl und Acryl. Sein kreativer Prozess wird stets von Neugierde und dem Wunsch nach Experimenten angetrieben. \nAusstellungen und Engagement \nMichael Fleckenstein hat seine Werke in verschiedenen Ausstellungen präsentiert\, darunter in München\, Olching\, Vilshofen\, Aidenbach und Viechtach. Diese Ausstellungen haben ihm die Möglichkeit gegeben\, seine künstlerischen Visionen mit einem breiten Publikum zu teilen und Anerkennung für seine vielseitigen Talente zu erhalten. \nArbeitsweise und Philosophie \nAls autodidaktischer Künstler steht für Michael das Experiment immer im Vordergrund. Er scheut sich nicht davor\, neue Techniken und Materialien auszuprobieren\, um seine künstlerischen Fähigkeiten kontinuierlich zu erweitern und zu verfeinern. Diese unerschrockene Herangehensweise ermöglicht es ihm\, einzigartige und ausdrucksstarke Werke zu schaffen\, die seine kreative Reise widerspiegeln. \nMichael Fleckenstein bleibt eine inspirierende Figur in der Kunstszene\, deren Werke und künstlerische Experimentierfreude die Betrachter immer wieder aufs Neue faszinieren und begeistern.
URL:https://verborgene-horizonte.de/event/architektur-trifft-abstraktes-2/
LOCATION:Rathausgalerie\, Stadtplatz 27\, Vilahofen\, BY\, 94474
CATEGORIES:Ausstellung
ATTACH;FMTTYPE=image/jpeg:https://verborgene-horizonte.de/wp-content/uploads/2025/09/Fleckenstein.jpg
END:VEVENT
END:VCALENDAR