BEGIN:VCALENDAR
VERSION:2.0
PRODID:-//Verborgene Horizonte - ECPv6.15.20//NONSGML v1.0//EN
CALSCALE:GREGORIAN
METHOD:PUBLISH
X-ORIGINAL-URL:https://verborgene-horizonte.de
X-WR-CALDESC:Veranstaltungen für Verborgene Horizonte
REFRESH-INTERVAL;VALUE=DURATION:PT1H
X-Robots-Tag:noindex
X-PUBLISHED-TTL:PT1H
BEGIN:VTIMEZONE
TZID:Europe/Berlin
BEGIN:DAYLIGHT
TZOFFSETFROM:+0100
TZOFFSETTO:+0200
TZNAME:CEST
DTSTART:20240331T010000
END:DAYLIGHT
BEGIN:STANDARD
TZOFFSETFROM:+0200
TZOFFSETTO:+0100
TZNAME:CET
DTSTART:20241027T010000
END:STANDARD
BEGIN:DAYLIGHT
TZOFFSETFROM:+0100
TZOFFSETTO:+0200
TZNAME:CEST
DTSTART:20250330T010000
END:DAYLIGHT
BEGIN:STANDARD
TZOFFSETFROM:+0200
TZOFFSETTO:+0100
TZNAME:CET
DTSTART:20251026T010000
END:STANDARD
BEGIN:DAYLIGHT
TZOFFSETFROM:+0100
TZOFFSETTO:+0200
TZNAME:CEST
DTSTART:20260329T010000
END:DAYLIGHT
BEGIN:STANDARD
TZOFFSETFROM:+0200
TZOFFSETTO:+0100
TZNAME:CET
DTSTART:20261025T010000
END:STANDARD
END:VTIMEZONE
BEGIN:VEVENT
DTSTART;TZID=Europe/Berlin:20251004T150000
DTEND;TZID=Europe/Berlin:20251004T180000
DTSTAMP:20260423T155905
CREATED:20250923T122550Z
LAST-MODIFIED:20250923T123244Z
UID:98-1759590000-1759600800@verborgene-horizonte.de
SUMMARY:Architektur trifft Abstraktes
DESCRIPTION:Geboren 1953 in München \nMichael Fleckenstein\, geboren im Jahr 1953 in München\, ist ein vielseitig talentierter Künstler\, der sein Leben der kreativen Erkundung und dem ständigen Experimentieren widmet. Seit sechs Jahren genießt er seinen Ruhestand in Vilshofen\, nachdem er beruflich in der Metallbranche\, genauer im Sondermaschinenbau\, tätig war. \nKünstlerische Leidenschaft und Vielfalt \nSeine Leidenschaft\, alles Mögliche auszuprobieren\, hat ihn zu einem wahrhaft autodidaktischen Künstler gemacht. Michael beschäftigt sich mit einer beeindruckenden Bandbreite an künstlerischen Disziplinen\, darunter Bildhauerei\, Schreinerei\, Zeichnen (mit Bleistift) sowie Malerei mit Öl und Acryl. Sein kreativer Prozess wird stets von Neugierde und dem Wunsch nach Experimenten angetrieben. \nAusstellungen und Engagement \nMichael Fleckenstein hat seine Werke in verschiedenen Ausstellungen präsentiert\, darunter in München\, Olching\, Vilshofen\, Aidenbach und Viechtach. Diese Ausstellungen haben ihm die Möglichkeit gegeben\, seine künstlerischen Visionen mit einem breiten Publikum zu teilen und Anerkennung für seine vielseitigen Talente zu erhalten. \nArbeitsweise und Philosophie \nAls autodidaktischer Künstler steht für Michael das Experiment immer im Vordergrund. Er scheut sich nicht davor\, neue Techniken und Materialien auszuprobieren\, um seine künstlerischen Fähigkeiten kontinuierlich zu erweitern und zu verfeinern. Diese unerschrockene Herangehensweise ermöglicht es ihm\, einzigartige und ausdrucksstarke Werke zu schaffen\, die seine kreative Reise widerspiegeln. \nMichael Fleckenstein bleibt eine inspirierende Figur in der Kunstszene\, deren Werke und künstlerische Experimentierfreude die Betrachter immer wieder aufs Neue faszinieren und begeistern.
URL:https://verborgene-horizonte.de/event/architektur-trifft-abstraktes-3/
LOCATION:Rathausgalerie\, Stadtplatz 27\, Vilahofen\, BY\, 94474
CATEGORIES:Ausstellung
ATTACH;FMTTYPE=image/jpeg:https://verborgene-horizonte.de/wp-content/uploads/2025/09/Fleckenstein.jpg
END:VEVENT
BEGIN:VEVENT
DTSTART;TZID=Europe/Berlin:20251004T170000
DTEND;TZID=Europe/Berlin:20251004T190000
DTSTAMP:20260423T155905
CREATED:20250923T125750Z
LAST-MODIFIED:20250923T130016Z
UID:114-1759597200-1759604400@verborgene-horizonte.de
SUMMARY:tandem humans-corals Finissage
DESCRIPTION:
URL:https://verborgene-horizonte.de/event/tandem-humans-corals/
LOCATION:Galerie websart\, Donaugasse 18\, Vilshofen an der Donau\, BY\, 9447
CATEGORIES:Finissage
ATTACH;FMTTYPE=image/jpeg:https://verborgene-horizonte.de/wp-content/uploads/2025/09/Robert-Weber.jpg
END:VEVENT
END:VCALENDAR