BEGIN:VCALENDAR
VERSION:2.0
PRODID:-//Verborgene Horizonte - ECPv6.15.20//NONSGML v1.0//EN
CALSCALE:GREGORIAN
METHOD:PUBLISH
X-WR-CALNAME:Verborgene Horizonte
X-ORIGINAL-URL:https://verborgene-horizonte.de
X-WR-CALDESC:Veranstaltungen für Verborgene Horizonte
REFRESH-INTERVAL;VALUE=DURATION:PT1H
X-Robots-Tag:noindex
X-PUBLISHED-TTL:PT1H
BEGIN:VTIMEZONE
TZID:Europe/Berlin
BEGIN:DAYLIGHT
TZOFFSETFROM:+0100
TZOFFSETTO:+0200
TZNAME:CEST
DTSTART:20240331T010000
END:DAYLIGHT
BEGIN:STANDARD
TZOFFSETFROM:+0200
TZOFFSETTO:+0100
TZNAME:CET
DTSTART:20241027T010000
END:STANDARD
BEGIN:DAYLIGHT
TZOFFSETFROM:+0100
TZOFFSETTO:+0200
TZNAME:CEST
DTSTART:20250330T010000
END:DAYLIGHT
BEGIN:STANDARD
TZOFFSETFROM:+0200
TZOFFSETTO:+0100
TZNAME:CET
DTSTART:20251026T010000
END:STANDARD
BEGIN:DAYLIGHT
TZOFFSETFROM:+0100
TZOFFSETTO:+0200
TZNAME:CEST
DTSTART:20260329T010000
END:DAYLIGHT
BEGIN:STANDARD
TZOFFSETFROM:+0200
TZOFFSETTO:+0100
TZNAME:CET
DTSTART:20261025T010000
END:STANDARD
END:VTIMEZONE
BEGIN:VEVENT
DTSTART;TZID=Europe/Berlin:20251116T140000
DTEND;TZID=Europe/Berlin:20251116T160000
DTSTAMP:20260423T141650
CREATED:20251023T084001Z
LAST-MODIFIED:20251108T150233Z
UID:1226-1763301600-1763308800@verborgene-horizonte.de
SUMMARY:Resonanzräume – Christine Schuldhaus
DESCRIPTION:Pastellkreide & Acryl \nDie Künstlerin Christine Schuldhaus lädt zur Vernissage ihrer Ausstellung Resonanzräume ein.Ihre Werke aus Pastellkreide und Acryl eröffnen Räume für innere Stimmungen – zwischen Ruhe\, Klarheit und Träumen.Mit feinem Gespür für Emotion und Ausdruck schafft sie Bilder\, die zum Lauschen des eigenen Nachklangs einladen. \nEröffnung: Freitag\, 7. November 2025\, 19:00 UhrOrt: Bürgerhaus Aidenbach\, Krankenhausstraße 18\, 94501 AidenbachAusstellungsdauer: bis 24. November 2025Öffnungszeiten: jeweils sonntags von 14:00 bis 16:00 Uhr \nEintritt frei.
URL:https://verborgene-horizonte.de/event/resonanzraeume-christine-schuldhaus-4/
LOCATION:BY
CATEGORIES:Ausstellung
END:VEVENT
END:VCALENDAR