BEGIN:VCALENDAR
VERSION:2.0
PRODID:-//Verborgene Horizonte - ECPv6.15.20//NONSGML v1.0//EN
CALSCALE:GREGORIAN
METHOD:PUBLISH
X-WR-CALNAME:Verborgene Horizonte
X-ORIGINAL-URL:https://verborgene-horizonte.de
X-WR-CALDESC:Veranstaltungen für Verborgene Horizonte
REFRESH-INTERVAL;VALUE=DURATION:PT1H
X-Robots-Tag:noindex
X-PUBLISHED-TTL:PT1H
BEGIN:VTIMEZONE
TZID:Europe/Berlin
BEGIN:DAYLIGHT
TZOFFSETFROM:+0100
TZOFFSETTO:+0200
TZNAME:CEST
DTSTART:20250330T010000
END:DAYLIGHT
BEGIN:STANDARD
TZOFFSETFROM:+0200
TZOFFSETTO:+0100
TZNAME:CET
DTSTART:20251026T010000
END:STANDARD
BEGIN:DAYLIGHT
TZOFFSETFROM:+0100
TZOFFSETTO:+0200
TZNAME:CEST
DTSTART:20260329T010000
END:DAYLIGHT
BEGIN:STANDARD
TZOFFSETFROM:+0200
TZOFFSETTO:+0100
TZNAME:CET
DTSTART:20261025T010000
END:STANDARD
BEGIN:DAYLIGHT
TZOFFSETFROM:+0100
TZOFFSETTO:+0200
TZNAME:CEST
DTSTART:20270328T010000
END:DAYLIGHT
BEGIN:STANDARD
TZOFFSETFROM:+0200
TZOFFSETTO:+0100
TZNAME:CET
DTSTART:20271031T010000
END:STANDARD
END:VTIMEZONE
BEGIN:VEVENT
DTSTART;TZID=Europe/Berlin:20260422T140000
DTEND;TZID=Europe/Berlin:20260424T170000
DTSTAMP:20260424T022343
CREATED:20260311T181932Z
LAST-MODIFIED:20260311T181932Z
UID:2320-1776866400-1777050000@verborgene-horizonte.de
SUMMARY:Kein Thema. Nur Kunst.
DESCRIPTION:„Kein Thema. Nur Kunst.“ – Ausstellung des Salon 24 \nOrt: Kulturmodell Passau\nZeitraum: 02. April – 26. April 2026 \nRund um die Passauer Künstlerin Gabriela Römer haben sich im Salon 24 Kunstschaffende\, Kunstliebhaber und kulturinteressierte Menschen aus unterschiedlichen Disziplinen zusammengeschlossen. Vertreten sind unter anderem Malerei\, Grafik und KI-Kunst\, Bildhauerei\, Glaskunst\, Musik sowie Buchkunst und weitere kreative Ausdrucksformen. \nDas Konzept des Salons: Kunst nicht auf ein gemeinsames Thema oder eine Stilrichtung festzulegen\, sondern sie als offenen\, lebendigen Dialog zu verstehen. Deshalb verzichtet die Ausstellung bewusst auf ein übergeordnetes Thema. Stattdessen zeigen die beteiligten Künstlerinnen und Künstler\, wo sie sich aktuell künstlerisch verorten und was sie momentan bewegt und inspiriert. \nBeteiligte Künstler:innen:\nPetra Baumgärtner · Alexandra Geyermann · Gérard Glotz · Lou Lenz · Eva Leopoldi · Erik Limmer · Hans Morhard · Jack Obi · Hermann Ritterswürden · Gabriela Römer · Anette Smolka-Woldan \nVernissage: 02.04.2026\, 19:00 Uhr \nÖffnungszeiten:\nMittwoch – Sonntag: 14:00 – 17:00 Uhr\nKarfreitag – Ostermontag: 14:00 – 17:00 Uhr \nFinissage: 25.04.2026\, ab 14:00 Uhr
URL:https://verborgene-horizonte.de/event/kein-thema-nur-kunst-6/
LOCATION:Kulturmodell Passau\, Bräugasse 9\, Passau\, Bayern\, 94032\, Germany
CATEGORIES:Ausstellung
ATTACH;FMTTYPE=image/jpeg:https://verborgene-horizonte.de/wp-content/uploads/2026/03/Salon-24.jpg
END:VEVENT
BEGIN:VEVENT
DTSTART;TZID=Europe/Berlin:20260424T180000
DTEND;TZID=Europe/Berlin:20260424T210000
DTSTAMP:20260424T022343
CREATED:20260124T110030Z
LAST-MODIFIED:20260124T110923Z
UID:2107-1777053600-1777064400@verborgene-horizonte.de
SUMMARY:Sensual Art
DESCRIPTION:Sensual Art – Ausstellung in der Galerie websart\nDie Galerie websart öffnet erneut ihre Türen für eine besondere Ausstellung zum Thema Sensual Art. Vom 24. April bis 8. Mai zeigen Künstlerinnen und Künstler ihre Arbeiten\, die sich sinnlich\, ästhetisch und vielschichtig mit Körper\, Emotion und Ausdruck auseinandersetzen. \nGezeigt werden Werke aus den Bereichen Malerei\, Zeichnung\, Skulptur\, Fotografie und Druckgrafik. Die Ausstellung versteht sich als offener Raum für unterschiedliche künstlerische Handschriften und Perspektiven – jenseits von Klischees\, mit Respekt vor dem Sujet und der individuellen Ausdruckskraft. \nVernissage\n📅 24. April🕕 Beginn: 18 Uhr🎟️ Eintritt frei \nAusstellungsdauer & Öffnungszeiten\n🗓 24. April – 8. Mai⏰ Donnerstag bis Sonntag\, 15–18 Uhrsowie nach Vereinbarung \n📍 Galerie websartDonaugasse 1894474 Vilshofen \nDie Ausstellung ist für Besucherinnen und Besucher kostenlos zugänglich. Spenden für die Galerie sind willkommen. \nSensual Art lädt ein zum Innehalten\, zum Dialog und zur bewussten Auseinandersetzung mit einem Thema\, das so alt ist wie die Kunst selbst – und doch immer wieder neu erzählt wird.
URL:https://verborgene-horizonte.de/event/sensual-art/
LOCATION:Galerie websart\, Donaugasse 18\, Vilshofen an der Donau\, BY\, 9447
CATEGORIES:Vernissage
ATTACH;FMTTYPE=image/jpeg:https://verborgene-horizonte.de/wp-content/uploads/2026/01/Vernissage-Galerie-Websart-01.jpg
END:VEVENT
END:VCALENDAR