BEGIN:VCALENDAR
VERSION:2.0
PRODID:-//Verborgene Horizonte - ECPv6.15.20//NONSGML v1.0//EN
CALSCALE:GREGORIAN
METHOD:PUBLISH
X-ORIGINAL-URL:https://verborgene-horizonte.de
X-WR-CALDESC:Veranstaltungen für Verborgene Horizonte
REFRESH-INTERVAL;VALUE=DURATION:PT1H
X-Robots-Tag:noindex
X-PUBLISHED-TTL:PT1H
BEGIN:VTIMEZONE
TZID:Europe/Berlin
BEGIN:DAYLIGHT
TZOFFSETFROM:+0100
TZOFFSETTO:+0200
TZNAME:CEST
DTSTART:20250330T010000
END:DAYLIGHT
BEGIN:STANDARD
TZOFFSETFROM:+0200
TZOFFSETTO:+0100
TZNAME:CET
DTSTART:20251026T010000
END:STANDARD
BEGIN:DAYLIGHT
TZOFFSETFROM:+0100
TZOFFSETTO:+0200
TZNAME:CEST
DTSTART:20260329T010000
END:DAYLIGHT
BEGIN:STANDARD
TZOFFSETFROM:+0200
TZOFFSETTO:+0100
TZNAME:CET
DTSTART:20261025T010000
END:STANDARD
BEGIN:DAYLIGHT
TZOFFSETFROM:+0100
TZOFFSETTO:+0200
TZNAME:CEST
DTSTART:20270328T010000
END:DAYLIGHT
BEGIN:STANDARD
TZOFFSETFROM:+0200
TZOFFSETTO:+0100
TZNAME:CET
DTSTART:20271031T010000
END:STANDARD
END:VTIMEZONE
BEGIN:VEVENT
DTSTART;TZID=Europe/Berlin:20260430T150000
DTEND;TZID=Europe/Berlin:20260503T180000
DTSTAMP:20260421T102515
CREATED:20260124T111938Z
LAST-MODIFIED:20260124T111938Z
UID:2116-1777561200-1777831200@verborgene-horizonte.de
SUMMARY:Sensual Art
DESCRIPTION:Sensual Art – Ausstellung in der Galerie websart\nDie Galerie websart öffnet erneut ihre Türen für eine besondere Ausstellung zum Thema Sensual Art. Vom 24. April bis 8. Mai zeigen Künstlerinnen und Künstler ihre Arbeiten\, die sich sinnlich\, ästhetisch und vielschichtig mit Körper\, Emotion und Ausdruck auseinandersetzen. \nGezeigt werden Werke aus den Bereichen Malerei\, Zeichnung\, Skulptur\, Fotografie und Druckgrafik. Die Ausstellung versteht sich als offener Raum für unterschiedliche künstlerische Handschriften und Perspektiven – jenseits von Klischees\, mit Respekt vor dem Sujet und der individuellen Ausdruckskraft. \nVernissage\n📅 24. April🕕 Beginn: 18 Uhr🎟️ Eintritt frei \nAusstellungsdauer & Öffnungszeiten\n🗓 24. April – 8. Mai⏰ Donnerstag bis Sonntag\, 15–18 Uhrsowie nach Vereinbarung \n📍 Galerie websartDonaugasse 1894474 Vilshofen \nDie Ausstellung ist für Besucherinnen und Besucher kostenlos zugänglich. Spenden für die Galerie sind willkommen. \nSensual Art lädt ein zum Innehalten\, zum Dialog und zur bewussten Auseinandersetzung mit einem Thema\, das so alt ist wie die Kunst selbst – und doch immer wieder neu erzählt wird.
URL:https://verborgene-horizonte.de/event/sensual-art-3/
LOCATION:Galerie websart\, Donaugasse 18\, Vilshofen an der Donau\, BY\, 9447
CATEGORIES:Ausstellung
ATTACH;FMTTYPE=image/jpeg:https://verborgene-horizonte.de/wp-content/uploads/2026/01/Vernissage-Galerie-Websart-01.jpg
END:VEVENT
BEGIN:VEVENT
DTSTART;TZID=Europe/Berlin:20260503T140000
DTEND;TZID=Europe/Berlin:20260503T170000
DTSTAMP:20260421T102515
CREATED:20260404T162856Z
LAST-MODIFIED:20260404T163335Z
UID:2407-1777816800-1777827600@verborgene-horizonte.de
SUMMARY:Gegensätze Verbinden
DESCRIPTION:Kunstausstellung „Gegensätze verbinden“ in Aidenbach \nUnter dem Titel „Gegensätze verbinden“ präsentieren die Künstlerinnen Erika Stangl\, Monika Stangl und Christine Hochleitner eine gemeinsame Ausstellung im Alten Krankenhaus – Bürgerhaus Aidenbach. \nDie Ausstellung zeigt unterschiedliche künstlerische Ausdrucksformen und verbindet Kontraste in Farbe\, Form und Stimmung zu einem spannenden Gesamterlebnis. \nDie Vernissage findet am Freitag\, 17. April 2026\, um 19:00 Uhr statt.Die Begrüßung übernimmt Rosemarie Berger (vhs Ortenburg)\, Grußworte spricht 1. Bürgermeister Robert Grabler. Für die musikalische Umrahmung sorgt Michael Fleckenstein. \nDie Ausstellung ist vom 17. April bis 3. Mai 2026 zu sehen. \nOrt:Altes Krankenhaus – Bürgerhaus AidenbachKrankenhausstraße 1294501 Aidenbach
URL:https://verborgene-horizonte.de/event/gegensaetze-verbinden-2/
LOCATION:Bürgerhaus Aidenbach\,\, Krankenhausstraße 12\, Aidenbach\, BY\, 94501
CATEGORIES:Ausstellung
ATTACH;FMTTYPE=image/jpeg:https://verborgene-horizonte.de/wp-content/uploads/2026/04/Aidenbach-01.jpg
END:VEVENT
END:VCALENDAR