BEGIN:VCALENDAR
VERSION:2.0
PRODID:-//Verborgene Horizonte - ECPv6.15.20//NONSGML v1.0//EN
CALSCALE:GREGORIAN
METHOD:PUBLISH
X-WR-CALNAME:Verborgene Horizonte
X-ORIGINAL-URL:https://verborgene-horizonte.de
X-WR-CALDESC:Veranstaltungen für Verborgene Horizonte
REFRESH-INTERVAL;VALUE=DURATION:PT1H
X-Robots-Tag:noindex
X-PUBLISHED-TTL:PT1H
BEGIN:VTIMEZONE
TZID:Europe/Berlin
BEGIN:DAYLIGHT
TZOFFSETFROM:+0100
TZOFFSETTO:+0200
TZNAME:CEST
DTSTART:20240331T010000
END:DAYLIGHT
BEGIN:STANDARD
TZOFFSETFROM:+0200
TZOFFSETTO:+0100
TZNAME:CET
DTSTART:20241027T010000
END:STANDARD
BEGIN:DAYLIGHT
TZOFFSETFROM:+0100
TZOFFSETTO:+0200
TZNAME:CEST
DTSTART:20250330T010000
END:DAYLIGHT
BEGIN:STANDARD
TZOFFSETFROM:+0200
TZOFFSETTO:+0100
TZNAME:CET
DTSTART:20251026T010000
END:STANDARD
BEGIN:DAYLIGHT
TZOFFSETFROM:+0100
TZOFFSETTO:+0200
TZNAME:CEST
DTSTART:20260329T010000
END:DAYLIGHT
BEGIN:STANDARD
TZOFFSETFROM:+0200
TZOFFSETTO:+0100
TZNAME:CET
DTSTART:20261025T010000
END:STANDARD
END:VTIMEZONE
BEGIN:VEVENT
DTSTART;TZID=Europe/Berlin:20251107T190000
DTEND;TZID=Europe/Berlin:20251107T210000
DTSTAMP:20260423T123536
CREATED:20251023T083335Z
LAST-MODIFIED:20251023T083335Z
UID:1219-1762542000-1762549200@verborgene-horizonte.de
SUMMARY:Resonanzräume – Christine Schuldhaus
DESCRIPTION:Pastellkreide & Acryl \nDie Künstlerin Christine Schuldhaus lädt zur Vernissage ihrer Ausstellung Resonanzräume ein.Ihre Werke aus Pastellkreide und Acryl eröffnen Räume für innere Stimmungen – zwischen Ruhe\, Klarheit und Träumen.Mit feinem Gespür für Emotion und Ausdruck schafft sie Bilder\, die zum Lauschen des eigenen Nachklangs einladen. \n???? Eröffnung: Freitag\, 7. November 2025\, 19:00 Uhr???? Ort: Bürgerhaus Aidenbach\, Krankenhausstraße 18\, 94501 Aidenbach???? Ausstellungsdauer: bis 24. November 2025???? Öffnungszeiten: jeweils sonntags von 14:00 bis 16:00 Uhr \nEintritt frei.
URL:https://verborgene-horizonte.de/event/resonanzraeume-christine-schuldhaus/
LOCATION:BY
CATEGORIES:Vernissage
END:VEVENT
BEGIN:VEVENT
DTSTART;TZID=Europe/Berlin:20251109T140000
DTEND;TZID=Europe/Berlin:20251109T160000
DTSTAMP:20260423T123536
CREATED:20251023T083548Z
LAST-MODIFIED:20251108T150025Z
UID:1222-1762696800-1762704000@verborgene-horizonte.de
SUMMARY:Resonanzräume – Christine Schuldhaus
DESCRIPTION:Pastellkreide & Acryl \nDie Künstlerin Christine Schuldhaus lädt zur Vernissage ihrer Ausstellung Resonanzräume ein.Ihre Werke aus Pastellkreide und Acryl eröffnen Räume für innere Stimmungen – zwischen Ruhe\, Klarheit und Träumen.Mit feinem Gespür für Emotion und Ausdruck schafft sie Bilder\, die zum Lauschen des eigenen Nachklangs einladen. \nEröffnung: Freitag\, 7. November 2025\, 19:00 UhrOrt: Bürgerhaus Aidenbach\, Krankenhausstraße 18\, 94501 AidenbachAusstellungsdauer: bis 24. November 2025Öffnungszeiten: jeweils sonntags von 14:00 bis 16:00 Uhr \nEintritt frei.
URL:https://verborgene-horizonte.de/event/resonanzraeume-christine-schuldhaus-2/
LOCATION:BY
CATEGORIES:Ausstellung
END:VEVENT
BEGIN:VEVENT
DTSTART;TZID=Europe/Berlin:20251116T140000
DTEND;TZID=Europe/Berlin:20251116T160000
DTSTAMP:20260423T123536
CREATED:20251023T084001Z
LAST-MODIFIED:20251108T150233Z
UID:1226-1763301600-1763308800@verborgene-horizonte.de
SUMMARY:Resonanzräume – Christine Schuldhaus
DESCRIPTION:Pastellkreide & Acryl \nDie Künstlerin Christine Schuldhaus lädt zur Vernissage ihrer Ausstellung Resonanzräume ein.Ihre Werke aus Pastellkreide und Acryl eröffnen Räume für innere Stimmungen – zwischen Ruhe\, Klarheit und Träumen.Mit feinem Gespür für Emotion und Ausdruck schafft sie Bilder\, die zum Lauschen des eigenen Nachklangs einladen. \nEröffnung: Freitag\, 7. November 2025\, 19:00 UhrOrt: Bürgerhaus Aidenbach\, Krankenhausstraße 18\, 94501 AidenbachAusstellungsdauer: bis 24. November 2025Öffnungszeiten: jeweils sonntags von 14:00 bis 16:00 Uhr \nEintritt frei.
URL:https://verborgene-horizonte.de/event/resonanzraeume-christine-schuldhaus-4/
LOCATION:BY
CATEGORIES:Ausstellung
END:VEVENT
BEGIN:VEVENT
DTSTART;TZID=Europe/Berlin:20251121T170000
DTEND;TZID=Europe/Berlin:20251121T200000
DTSTAMP:20260423T123536
CREATED:20251010T101602Z
LAST-MODIFIED:20251120T110440Z
UID:851-1763744400-1763755200@verborgene-horizonte.de
SUMMARY:Maria Göttl
DESCRIPTION:Die Künstlerin Maria Göttl\, 31 Jahre jung\, lädt herzlich zu ihrer Ausstellung ein\, in der sie ihre neuesten Werke präsentiert – inspiriert von der einzigartigen Landschaft und der stillen Schönheit des Bayerischen Waldes\, ihrer Heimat und Quelle kreativer Energie. \nIn ihren Bildern spiegelt sich Marias tiefe Verbundenheit mit der Natur wider. Ob auf langen Radtouren durch Wälder und Wiesen oder in stillen Momenten des Beobachtens – die Eindrücke aus der Umgebung verwandelt sie in farbenreiche\, lebendige und zugleich meditative Kunstwerke. \nMaria arbeitet mit Aquarell- und Acrylfarben sowie feinen Fineliner-Zeichnungen und kombiniert diese zu stimmungsvollen Kompositionen. Ihre Kunst lebt von Freiheit\, Intuition und Experimentierfreude – jedes Werk erzählt von einem persönlichen Empfinden\, einem Moment des Innehaltens. \n Freitag\, 21. November 2025\, um 17:00 Uhr \nAusstellung geöffnet:Samstag & Sonntag\, 22.–23. November 2025 12:00 – 21:00 Uhr \nKaining\, Marienstraße
URL:https://verborgene-horizonte.de/event/maria-goettl/
LOCATION:Maria Göttl\, Marienstraße 11\, Hinterschmiding\, BY\, 94146
CATEGORIES:Vernissage
ATTACH;FMTTYPE=image/jpeg:https://verborgene-horizonte.de/wp-content/uploads/2025/10/Download.jpg
END:VEVENT
BEGIN:VEVENT
DTSTART;TZID=Europe/Berlin:20251122T120000
DTEND;TZID=Europe/Berlin:20251122T210000
DTSTAMP:20260423T123536
CREATED:20251010T105142Z
LAST-MODIFIED:20251010T105142Z
UID:855-1763812800-1763845200@verborgene-horizonte.de
SUMMARY:Maria Göttl
DESCRIPTION:Die Künstlerin Maria Göttl\, 31 Jahre jung\, lädt herzlich zu ihrer Ausstellung ein\, in der sie ihre neuesten Werke präsentiert – inspiriert von der einzigartigen Landschaft und der stillen Schönheit des Bayerischen Waldes\, ihrer Heimat und Quelle kreativer Energie. \nIn ihren Bildern spiegelt sich Marias tiefe Verbundenheit mit der Natur wider. Ob auf langen Radtouren durch Wälder und Wiesen oder in stillen Momenten des Beobachtens – die Eindrücke aus der Umgebung verwandelt sie in farbenreiche\, lebendige und zugleich meditative Kunstwerke. \nMaria arbeitet mit Aquarell- und Acrylfarben sowie feinen Fineliner-Zeichnungen und kombiniert diese zu stimmungsvollen Kompositionen. Ihre Kunst lebt von Freiheit\, Intuition und Experimentierfreude – jedes Werk erzählt von einem persönlichen Empfinden\, einem Moment des Innehaltens. \n???? Freitag\, 21. November 2025\, um 17:00 Uhr \nAusstellung geöffnet:???? Samstag & Sonntag\, 22.–23. November 2025???? 12:00 – 21:00 Uhr \n???? Kaining\, Marienstraße
URL:https://verborgene-horizonte.de/event/maria-goettl-2/
LOCATION:Maria Göttl\, Marienstraße 11\, Hinterschmiding\, BY\, 94146
CATEGORIES:Ausstellung
ATTACH;FMTTYPE=image/jpeg:https://verborgene-horizonte.de/wp-content/uploads/2025/10/Download.jpg
END:VEVENT
BEGIN:VEVENT
DTSTART;TZID=Europe/Berlin:20251123T120000
DTEND;TZID=Europe/Berlin:20251123T210000
DTSTAMP:20260423T123536
CREATED:20251010T105239Z
LAST-MODIFIED:20251010T105239Z
UID:857-1763899200-1763931600@verborgene-horizonte.de
SUMMARY:Maria Göttl
DESCRIPTION:Die Künstlerin Maria Göttl\, 31 Jahre jung\, lädt herzlich zu ihrer Ausstellung ein\, in der sie ihre neuesten Werke präsentiert – inspiriert von der einzigartigen Landschaft und der stillen Schönheit des Bayerischen Waldes\, ihrer Heimat und Quelle kreativer Energie. \nIn ihren Bildern spiegelt sich Marias tiefe Verbundenheit mit der Natur wider. Ob auf langen Radtouren durch Wälder und Wiesen oder in stillen Momenten des Beobachtens – die Eindrücke aus der Umgebung verwandelt sie in farbenreiche\, lebendige und zugleich meditative Kunstwerke. \nMaria arbeitet mit Aquarell- und Acrylfarben sowie feinen Fineliner-Zeichnungen und kombiniert diese zu stimmungsvollen Kompositionen. Ihre Kunst lebt von Freiheit\, Intuition und Experimentierfreude – jedes Werk erzählt von einem persönlichen Empfinden\, einem Moment des Innehaltens. \n???? Freitag\, 21. November 2025\, um 17:00 Uhr \nAusstellung geöffnet:???? Samstag & Sonntag\, 22.–23. November 2025???? 12:00 – 21:00 Uhr \n???? Kaining\, Marienstraße
URL:https://verborgene-horizonte.de/event/maria-goettl-3/
LOCATION:Maria Göttl\, Marienstraße 11\, Hinterschmiding\, BY\, 94146
CATEGORIES:Ausstellung
ATTACH;FMTTYPE=image/jpeg:https://verborgene-horizonte.de/wp-content/uploads/2025/10/Download.jpg
END:VEVENT
BEGIN:VEVENT
DTSTART;TZID=Europe/Berlin:20251123T140000
DTEND;TZID=Europe/Berlin:20251123T160000
DTSTAMP:20260423T123536
CREATED:20251023T083724Z
LAST-MODIFIED:20251108T150315Z
UID:1224-1763906400-1763913600@verborgene-horizonte.de
SUMMARY:Resonanzräume – Christine Schuldhaus
DESCRIPTION:Pastellkreide & Acryl \nDie Künstlerin Christine Schuldhaus lädt zur Vernissage ihrer Ausstellung Resonanzräume ein.Ihre Werke aus Pastellkreide und Acryl eröffnen Räume für innere Stimmungen – zwischen Ruhe\, Klarheit und Träumen.Mit feinem Gespür für Emotion und Ausdruck schafft sie Bilder\, die zum Lauschen des eigenen Nachklangs einladen. \nEröffnung: Freitag\, 7. November 2025\, 19:00 UhrOrt: Bürgerhaus Aidenbach\, Krankenhausstraße 18\, 94501 AidenbachAusstellungsdauer: bis 24. November 2025Öffnungszeiten: jeweils sonntags von 14:00 bis 16:00 Uhr \nEintritt frei.
URL:https://verborgene-horizonte.de/event/resonanzraeume-christine-schuldhaus-3/
LOCATION:BY
CATEGORIES:Ausstellung
END:VEVENT
END:VCALENDAR