BEGIN:VCALENDAR
VERSION:2.0
PRODID:-//Verborgene Horizonte - ECPv6.15.20//NONSGML v1.0//EN
CALSCALE:GREGORIAN
METHOD:PUBLISH
X-ORIGINAL-URL:https://verborgene-horizonte.de
X-WR-CALDESC:Veranstaltungen für Verborgene Horizonte
REFRESH-INTERVAL;VALUE=DURATION:PT1H
X-Robots-Tag:noindex
X-PUBLISHED-TTL:PT1H
BEGIN:VTIMEZONE
TZID:Europe/Berlin
BEGIN:DAYLIGHT
TZOFFSETFROM:+0100
TZOFFSETTO:+0200
TZNAME:CEST
DTSTART:20240331T010000
END:DAYLIGHT
BEGIN:STANDARD
TZOFFSETFROM:+0200
TZOFFSETTO:+0100
TZNAME:CET
DTSTART:20241027T010000
END:STANDARD
BEGIN:DAYLIGHT
TZOFFSETFROM:+0100
TZOFFSETTO:+0200
TZNAME:CEST
DTSTART:20250330T010000
END:DAYLIGHT
BEGIN:STANDARD
TZOFFSETFROM:+0200
TZOFFSETTO:+0100
TZNAME:CET
DTSTART:20251026T010000
END:STANDARD
BEGIN:DAYLIGHT
TZOFFSETFROM:+0100
TZOFFSETTO:+0200
TZNAME:CEST
DTSTART:20260329T010000
END:DAYLIGHT
BEGIN:STANDARD
TZOFFSETFROM:+0200
TZOFFSETTO:+0100
TZNAME:CET
DTSTART:20261025T010000
END:STANDARD
END:VTIMEZONE
BEGIN:VEVENT
DTSTART;TZID=Europe/Berlin:20251211T190000
DTEND;TZID=Europe/Berlin:20251211T210000
DTSTAMP:20260421T114647
CREATED:20251211T130732Z
LAST-MODIFIED:20251211T131350Z
UID:1531-1765479600-1765486800@verborgene-horizonte.de
SUMMARY:Jahresausstellung Kunstverein Deggendorf
DESCRIPTION:Mitglieder-Jahresausstellung Kunstverein Deggendorf e.V.\nVernissage: Do 11.12. um 19 Uhr\nÖffnungszeiten: Di-Fr von 14–17 Uhr; Sa\, So\, Feiertage von 11–17 Uhr; Dreikönigstag von 11–16 Uhr; Mo\, Hl. Abend und Silvester geschlossen.
URL:https://verborgene-horizonte.de/event/jahresausstellung-kunstverein-deggendorf/
LOCATION:Kapuzinerstadel Deggendorf\, Maria-Ward-Platz 10\, Deggendorf\, 94469\, Germany
CATEGORIES:Vernissage
ATTACH;FMTTYPE=image/jpeg:https://verborgene-horizonte.de/wp-content/uploads/2025/12/Kunstverien-Degendorf.jpg
END:VEVENT
BEGIN:VEVENT
DTSTART;TZID=Europe/Berlin:20251220T130000
DTEND;TZID=Europe/Berlin:20251220T180000
DTSTAMP:20260421T114647
CREATED:20251007T212346Z
LAST-MODIFIED:20251007T212347Z
UID:810-1766235600-1766253600@verborgene-horizonte.de
SUMMARY:Bildung-s-ART im Haslinger Hof
DESCRIPTION:Bildung-s-ART verbindet Kunst und Bildung: Künstler:innen stellen aus\, Besucher:innen entdecken – und gemeinsam ermöglichen wir Chancen. Der gesamte Reinerlös fließt in Bildungsprojekte. \nSie möchten als Künstler:in mitmachen\, spenden oder unterstützen? Schreiben Sie uns: info@bildung-s-art.de
URL:https://verborgene-horizonte.de/event/bildung-s-art-im-haslinger-hof/
LOCATION:Haslinger Hof\, Ed 1\, Kirchham\, BY\, 94148
CATEGORIES:Ausstellung
ATTACH;FMTTYPE=image/jpeg:https://verborgene-horizonte.de/wp-content/uploads/2025/10/Unbenannt-1.jpg
END:VEVENT
BEGIN:VEVENT
DTSTART;TZID=Europe/Berlin:20251221T130000
DTEND;TZID=Europe/Berlin:20251221T180000
DTSTAMP:20260421T114647
CREATED:20251007T212820Z
LAST-MODIFIED:20251007T212820Z
UID:813-1766322000-1766340000@verborgene-horizonte.de
SUMMARY:Bildung-s-ART im Haslinger Hof
DESCRIPTION:Bildung-s-ART verbindet Kunst und Bildung: Künstler:innen stellen aus\, Besucher:innen entdecken – und gemeinsam ermöglichen wir Chancen. Der gesamte Reinerlös fließt in Bildungsprojekte. \nSie möchten als Künstler:in mitmachen\, spenden oder unterstützen? Schreiben Sie uns: info@bildung-s-art.de
URL:https://verborgene-horizonte.de/event/bildung-s-art-im-haslinger-hof-2/
LOCATION:Haslinger Hof\, Ed 1\, Kirchham\, BY\, 94148
CATEGORIES:Ausstellung
ATTACH;FMTTYPE=image/jpeg:https://verborgene-horizonte.de/wp-content/uploads/2025/10/Unbenannt-1.jpg
END:VEVENT
BEGIN:VEVENT
DTSTART;TZID=Europe/Berlin:20251227T130000
DTEND;TZID=Europe/Berlin:20251227T180000
DTSTAMP:20260421T114647
CREATED:20251007T212905Z
LAST-MODIFIED:20251007T212905Z
UID:815-1766840400-1766858400@verborgene-horizonte.de
SUMMARY:Bildung-s-ART im Haslinger Hof
DESCRIPTION:Bildung-s-ART verbindet Kunst und Bildung: Künstler:innen stellen aus\, Besucher:innen entdecken – und gemeinsam ermöglichen wir Chancen. Der gesamte Reinerlös fließt in Bildungsprojekte. \nSie möchten als Künstler:in mitmachen\, spenden oder unterstützen? Schreiben Sie uns: info@bildung-s-art.de
URL:https://verborgene-horizonte.de/event/bildung-s-art-im-haslinger-hof-3/
LOCATION:Haslinger Hof\, Ed 1\, Kirchham\, BY\, 94148
CATEGORIES:Ausstellung
ATTACH;FMTTYPE=image/jpeg:https://verborgene-horizonte.de/wp-content/uploads/2025/10/Unbenannt-1.jpg
END:VEVENT
BEGIN:VEVENT
DTSTART;TZID=Europe/Berlin:20251228T130000
DTEND;TZID=Europe/Berlin:20251228T180000
DTSTAMP:20260421T114647
CREATED:20251007T212942Z
LAST-MODIFIED:20251007T212942Z
UID:817-1766926800-1766944800@verborgene-horizonte.de
SUMMARY:Bildung-s-ART im Haslinger Hof
DESCRIPTION:Bildung-s-ART verbindet Kunst und Bildung: Künstler:innen stellen aus\, Besucher:innen entdecken – und gemeinsam ermöglichen wir Chancen. Der gesamte Reinerlös fließt in Bildungsprojekte. \nSie möchten als Künstler:in mitmachen\, spenden oder unterstützen? Schreiben Sie uns: info@bildung-s-art.de
URL:https://verborgene-horizonte.de/event/bildung-s-art-im-haslinger-hof-4/
LOCATION:Haslinger Hof\, Ed 1\, Kirchham\, BY\, 94148
CATEGORIES:Ausstellung
ATTACH;FMTTYPE=image/jpeg:https://verborgene-horizonte.de/wp-content/uploads/2025/10/Unbenannt-1.jpg
END:VEVENT
END:VCALENDAR