BEGIN:VCALENDAR
VERSION:2.0
PRODID:-//Verborgene Horizonte - ECPv6.15.20//NONSGML v1.0//EN
CALSCALE:GREGORIAN
METHOD:PUBLISH
X-ORIGINAL-URL:https://verborgene-horizonte.de
X-WR-CALDESC:Veranstaltungen für Verborgene Horizonte
REFRESH-INTERVAL;VALUE=DURATION:PT1H
X-Robots-Tag:noindex
X-PUBLISHED-TTL:PT1H
BEGIN:VTIMEZONE
TZID:Europe/Berlin
BEGIN:DAYLIGHT
TZOFFSETFROM:+0100
TZOFFSETTO:+0200
TZNAME:CEST
DTSTART:20250330T010000
END:DAYLIGHT
BEGIN:STANDARD
TZOFFSETFROM:+0200
TZOFFSETTO:+0100
TZNAME:CET
DTSTART:20251026T010000
END:STANDARD
BEGIN:DAYLIGHT
TZOFFSETFROM:+0100
TZOFFSETTO:+0200
TZNAME:CEST
DTSTART:20260329T010000
END:DAYLIGHT
BEGIN:STANDARD
TZOFFSETFROM:+0200
TZOFFSETTO:+0100
TZNAME:CET
DTSTART:20261025T010000
END:STANDARD
BEGIN:DAYLIGHT
TZOFFSETFROM:+0100
TZOFFSETTO:+0200
TZNAME:CEST
DTSTART:20270328T010000
END:DAYLIGHT
BEGIN:STANDARD
TZOFFSETFROM:+0200
TZOFFSETTO:+0100
TZNAME:CET
DTSTART:20271031T010000
END:STANDARD
END:VTIMEZONE
BEGIN:VEVENT
DTSTART;TZID=Europe/Berlin:20260103T130000
DTEND;TZID=Europe/Berlin:20260103T180000
DTSTAMP:20260419T211641
CREATED:20251007T213219Z
LAST-MODIFIED:20251007T213219Z
UID:819-1767445200-1767463200@verborgene-horizonte.de
SUMMARY:Bildung-s-ART im Haslinger Hof
DESCRIPTION:Bildung-s-ART verbindet Kunst und Bildung: Künstler:innen stellen aus\, Besucher:innen entdecken – und gemeinsam ermöglichen wir Chancen. Der gesamte Reinerlös fließt in Bildungsprojekte. \nSie möchten als Künstler:in mitmachen\, spenden oder unterstützen? Schreiben Sie uns: info@bildung-s-art.de
URL:https://verborgene-horizonte.de/event/bildung-s-art-im-haslinger-hof-5/
LOCATION:Haslinger Hof\, Ed 1\, Kirchham\, BY\, 94148
CATEGORIES:Ausstellung
ATTACH;FMTTYPE=image/jpeg:https://verborgene-horizonte.de/wp-content/uploads/2025/10/Unbenannt-1.jpg
END:VEVENT
BEGIN:VEVENT
DTSTART;TZID=Europe/Berlin:20260104T130000
DTEND;TZID=Europe/Berlin:20260104T180000
DTSTAMP:20260419T211641
CREATED:20251007T213307Z
LAST-MODIFIED:20251007T213307Z
UID:821-1767531600-1767549600@verborgene-horizonte.de
SUMMARY:Bildung-s-ART im Haslinger Hof
DESCRIPTION:Bildung-s-ART verbindet Kunst und Bildung: Künstler:innen stellen aus\, Besucher:innen entdecken – und gemeinsam ermöglichen wir Chancen. Der gesamte Reinerlös fließt in Bildungsprojekte. \nSie möchten als Künstler:in mitmachen\, spenden oder unterstützen? Schreiben Sie uns: info@bildung-s-art.de
URL:https://verborgene-horizonte.de/event/bildung-s-art-im-haslinger-hof-6/
LOCATION:Haslinger Hof\, Ed 1\, Kirchham\, BY\, 94148
CATEGORIES:Ausstellung
ATTACH;FMTTYPE=image/jpeg:https://verborgene-horizonte.de/wp-content/uploads/2025/10/Unbenannt-1.jpg
END:VEVENT
BEGIN:VEVENT
DTSTART;TZID=Europe/Berlin:20260110T130000
DTEND;TZID=Europe/Berlin:20260110T180000
DTSTAMP:20260419T211641
CREATED:20251007T213353Z
LAST-MODIFIED:20251007T213353Z
UID:823-1768050000-1768068000@verborgene-horizonte.de
SUMMARY:Bildung-s-ART im Haslinger Hof
DESCRIPTION:Bildung-s-ART verbindet Kunst und Bildung: Künstler:innen stellen aus\, Besucher:innen entdecken – und gemeinsam ermöglichen wir Chancen. Der gesamte Reinerlös fließt in Bildungsprojekte. \nSie möchten als Künstler:in mitmachen\, spenden oder unterstützen? Schreiben Sie uns: info@bildung-s-art.de
URL:https://verborgene-horizonte.de/event/bildung-s-art-im-haslinger-hof-7/
LOCATION:Haslinger Hof\, Ed 1\, Kirchham\, BY\, 94148
CATEGORIES:Ausstellung
ATTACH;FMTTYPE=image/jpeg:https://verborgene-horizonte.de/wp-content/uploads/2025/10/Unbenannt-1.jpg
END:VEVENT
BEGIN:VEVENT
DTSTART;TZID=Europe/Berlin:20260111T130000
DTEND;TZID=Europe/Berlin:20260111T180000
DTSTAMP:20260419T211641
CREATED:20251007T213442Z
LAST-MODIFIED:20251007T213442Z
UID:825-1768136400-1768154400@verborgene-horizonte.de
SUMMARY:Bildung-s-ART im Haslinger Hof
DESCRIPTION:Bildung-s-ART verbindet Kunst und Bildung: Künstler:innen stellen aus\, Besucher:innen entdecken – und gemeinsam ermöglichen wir Chancen. Der gesamte Reinerlös fließt in Bildungsprojekte. \nSie möchten als Künstler:in mitmachen\, spenden oder unterstützen? Schreiben Sie uns: info@bildung-s-art.de
URL:https://verborgene-horizonte.de/event/bildung-s-art-im-haslinger-hof-8/
LOCATION:Haslinger Hof\, Ed 1\, Kirchham\, BY\, 94148
CATEGORIES:Ausstellung
ATTACH;FMTTYPE=image/jpeg:https://verborgene-horizonte.de/wp-content/uploads/2025/10/Unbenannt-1.jpg
END:VEVENT
BEGIN:VEVENT
DTSTART;TZID=Europe/Berlin:20260123T180000
DTEND;TZID=Europe/Berlin:20260123T210000
DTSTAMP:20260419T211641
CREATED:20260119T223637Z
LAST-MODIFIED:20260121T191116Z
UID:2036-1769191200-1769202000@verborgene-horizonte.de
SUMMARY:Christine Hochleitner
DESCRIPTION:Ausstellung dieses Jahr in der Rathasugalerie  Vilshofen a. D.
URL:https://verborgene-horizonte.de/event/christine-hochleitner/
LOCATION:Rathausgalerie\, Stadtplatz 27\, Vilahofen\, BY\, 94474
CATEGORIES:Vernissage
ATTACH;FMTTYPE=image/jpeg:https://verborgene-horizonte.de/wp-content/uploads/2026/01/615486230_884411350903653_1800629731162779727_n.jpg
END:VEVENT
BEGIN:VEVENT
DTSTART;TZID=Europe/Berlin:20260123T190000
DTEND;TZID=Europe/Berlin:20260123T210000
DTSTAMP:20260419T211641
CREATED:20251125T111907Z
LAST-MODIFIED:20251221T202831Z
UID:1493-1769194800-1769202000@verborgene-horizonte.de
SUMMARY:ACRYLARTS
DESCRIPTION:Einladung zur Vernissage \nEs ist mir eine große Freude\, Euch zu meiner Ausstellung\n„AcrylARTS“\nam 23. Januar 2026 um 19:00 Uhr einzuladen. \nIn den vergangenen Monaten sind Werke entstanden\, die Gefühle\, Gedanken\nund innere Wege sichtbar machen – in Farbe\, Bewegung und Struktur.\nIch möchte diese Bilder nicht nur zeigen\, sondern mit Euch gemeinsam fühlen\,\nwas Kunst auslösen kann. \nDie Vernissage findet im Eventraum der Spielbank Bad Füssing statt. \nIch würde mich sehr freuen\, diesen besonderen Abend mit Euch zu teilen\,\nmich auszutauschen und Begegnungen zu feiern\, die Kunst möglich macht. \nHinweis: Für den Zutritt zur Spielbank wird ein gültiger Personalausweis benötigt. \nVon Herzen\,\nAlexandra Vogt
URL:https://verborgene-horizonte.de/event/meine-welt-ist-bunt/
LOCATION:Spielbank Bad Füssing\, Kurhausstraße 1\, Bad Füssing\, Bayern\, 94072\, Germany
CATEGORIES:Vernissage
ATTACH;FMTTYPE=image/jpeg:https://verborgene-horizonte.de/wp-content/uploads/2025/11/Alexandra-Vogt-01.jpg
END:VEVENT
END:VCALENDAR