BEGIN:VCALENDAR
VERSION:2.0
PRODID:-//Verborgene Horizonte - ECPv6.15.20//NONSGML v1.0//EN
CALSCALE:GREGORIAN
METHOD:PUBLISH
X-ORIGINAL-URL:https://verborgene-horizonte.de
X-WR-CALDESC:Veranstaltungen für Verborgene Horizonte
REFRESH-INTERVAL;VALUE=DURATION:PT1H
X-Robots-Tag:noindex
X-PUBLISHED-TTL:PT1H
BEGIN:VTIMEZONE
TZID:Europe/Berlin
BEGIN:DAYLIGHT
TZOFFSETFROM:+0100
TZOFFSETTO:+0200
TZNAME:CEST
DTSTART:20250330T010000
END:DAYLIGHT
BEGIN:STANDARD
TZOFFSETFROM:+0200
TZOFFSETTO:+0100
TZNAME:CET
DTSTART:20251026T010000
END:STANDARD
BEGIN:DAYLIGHT
TZOFFSETFROM:+0100
TZOFFSETTO:+0200
TZNAME:CEST
DTSTART:20260329T010000
END:DAYLIGHT
BEGIN:STANDARD
TZOFFSETFROM:+0200
TZOFFSETTO:+0100
TZNAME:CET
DTSTART:20261025T010000
END:STANDARD
BEGIN:DAYLIGHT
TZOFFSETFROM:+0100
TZOFFSETTO:+0200
TZNAME:CEST
DTSTART:20270328T010000
END:DAYLIGHT
BEGIN:STANDARD
TZOFFSETFROM:+0200
TZOFFSETTO:+0100
TZNAME:CET
DTSTART:20271031T010000
END:STANDARD
END:VTIMEZONE
BEGIN:VEVENT
DTSTART;TZID=Europe/Berlin:20260201T080000
DTEND;TZID=Europe/Berlin:20260228T170000
DTSTAMP:20260419T194536
CREATED:20260120T171647Z
LAST-MODIFIED:20260120T171731Z
UID:2056-1769932800-1772298000@verborgene-horizonte.de
SUMMARY:Peter Oltmanns Digitale Kunst
DESCRIPTION:Digitale Kunst – Bild-Composing / digiART \nIm Februar 2026 präsentiert der Bildmacher Peter Oltmanns im Artrium Bad Birnbach digitale Kunstwerke aus dem Bereich Bild-Composing.Aus Fotografien\, eigenen Fotos\, historischen Aufnahmen\, freien Archivbildern und KI-Texturen entstehen neue Bildwelten\, die Geschichten erzählen und Raum für eigene Gedanken lassen. \nDie Ausstellung zeigt unter anderem Werke wie Träume\, Die magischen Häuser der Bibliophile\, Die Hochzeitsfeier und Marc-Aurel (nach Kaiser). \nOrt: Artrium – Bad Birnbach\, Kurallee 7Zeitraum: Februar 2026Besichtigung: während der Öffnungszeiten
URL:https://verborgene-horizonte.de/event/peter-oltmanns-digitale-kunst/
LOCATION:Artrium  Bad Birnbach\, Kurallee 7\, Bad Birnabch\, Bayern\, 84364\, Germany
CATEGORIES:Ausstellung
ATTACH;FMTTYPE=image/jpeg:https://verborgene-horizonte.de/wp-content/uploads/2026/01/IMG_055.jpg
END:VEVENT
BEGIN:VEVENT
DTSTART;TZID=Europe/Berlin:20260207T193000
DTEND;TZID=Europe/Berlin:20260207T230000
DTSTAMP:20260419T194536
CREATED:20260125T104946Z
LAST-MODIFIED:20260125T105007Z
UID:2125-1770492600-1770505200@verborgene-horizonte.de
SUMMARY:KUNST + MUSIK = LIEBE
DESCRIPTION:KUNST + MUSIK = LIEBE  \n\nWenn Farben auf Klänge treffen und Emotionen sichtbar werden\, entsteht ein besonderer Abend: Unter dem Titel „Kunst + Musik = Liebe“ laden die Malerin Beate Drexler und der Pianist Jürgen Dreier zu einer stimmungsvollen Vernissage ein. Ausdrucksstarke Bildwelten und feinfühlige Klaviermusik verbinden sich zu einem sinnlichen Erlebnis\, das Herz und Sinne berührt. \nDie Vernissage findet am Samstag\, 7. Februar 2026\, um 19:30 Uhr im Café Weinbar Chaplin\, Theresienstraße 1\, 94032 Passau\, statt.Die Gäste werden von Bürgermeister Armin Dickl begrüßt\, die Laudatio hält Dr. Eva Lechner. \nDie Ausstellung ist zu den regulären Öffnungszeiten der Café Weinbar Chaplin zu sehen:Montag\, Mittwoch\, Donnerstag\, Freitag und Samstag von 10:00 bis 23:00 Uhr. \nEin Abend voller Kunst\, Musik und Gefühl – persönlich\, inspirierend und liebevoll gestaltet.
URL:https://verborgene-horizonte.de/event/kunst-musik-liebe/
LOCATION:Cafe´Weinbar Chaplin\, Theresienstraße 1\, Passau\, Bayern\, 94032\, Germany
CATEGORIES:Vernissage
ATTACH;FMTTYPE=image/jpeg:https://verborgene-horizonte.de/wp-content/uploads/2026/01/Beate-Drexler.jpg
END:VEVENT
END:VCALENDAR