BEGIN:VCALENDAR
VERSION:2.0
PRODID:-//Verborgene Horizonte - ECPv6.15.20//NONSGML v1.0//EN
CALSCALE:GREGORIAN
METHOD:PUBLISH
X-ORIGINAL-URL:https://verborgene-horizonte.de
X-WR-CALDESC:Veranstaltungen für Verborgene Horizonte
REFRESH-INTERVAL;VALUE=DURATION:PT1H
X-Robots-Tag:noindex
X-PUBLISHED-TTL:PT1H
BEGIN:VTIMEZONE
TZID:Europe/Berlin
BEGIN:DAYLIGHT
TZOFFSETFROM:+0100
TZOFFSETTO:+0200
TZNAME:CEST
DTSTART:20250330T010000
END:DAYLIGHT
BEGIN:STANDARD
TZOFFSETFROM:+0200
TZOFFSETTO:+0100
TZNAME:CET
DTSTART:20251026T010000
END:STANDARD
BEGIN:DAYLIGHT
TZOFFSETFROM:+0100
TZOFFSETTO:+0200
TZNAME:CEST
DTSTART:20260329T010000
END:DAYLIGHT
BEGIN:STANDARD
TZOFFSETFROM:+0200
TZOFFSETTO:+0100
TZNAME:CET
DTSTART:20261025T010000
END:STANDARD
BEGIN:DAYLIGHT
TZOFFSETFROM:+0100
TZOFFSETTO:+0200
TZNAME:CEST
DTSTART:20270328T010000
END:DAYLIGHT
BEGIN:STANDARD
TZOFFSETFROM:+0200
TZOFFSETTO:+0100
TZNAME:CET
DTSTART:20271031T010000
END:STANDARD
END:VTIMEZONE
BEGIN:VEVENT
DTSTART;TZID=Europe/Berlin:20260530T140000
DTEND;TZID=Europe/Berlin:20260531T180000
DTSTAMP:20260419T195324
CREATED:20260314T190930Z
LAST-MODIFIED:20260314T190930Z
UID:2337-1780149600-1780250400@verborgene-horizonte.de
SUMMARY:Krystyna Albrecht – „Stilistische Schönheiten“
DESCRIPTION:Die Künstlerin Krystyna Albrecht zeigt in der Rathausgalerie Vilshofen eine Auswahl ihrer Werke unter dem Titel „Stilistische Schönheiten“. Ihre Bilder zeichnen sich durch eine sensible\, atmosphärische Gestaltung und eine feine künstlerische Handschrift aus. Zwischen Anmut\, Farbe und Ausdruck entstehen Bildwelten\, die berühren und zum Verweilen einladen. \nKrystyna Albrecht\, 1951 in Polen geboren\, arbeitete viele Jahre als Technische Zeichnerin in den Bereichen Stadtplanung und Architektur. Erst im Ruhestand widmete sie sich intensiv der Malerei und entwickelte dabei eine eigenständige künstlerische Handschrift. Ihre Acrylbilder reichen von abstrakten Kompositionen über Landschaften bis hin zu floralen und figurativen Motiven. In ihren Werken verbinden sich gestalterische Sensibilität und ein feines Gespür für Stimmung\, Form und Farbe. Die Künstlerin lebt in Bad Birnbach. \nZu sehen ist die Ausstellung vom 16. bis 31. Mai 2026 in der Rathausgalerie Vilshofen. Die feierliche Vernissage beginnt am 15. Mai 2026 um 18 Uhr. Geöffnet ist die Ausstellung samstags und sonntags von 14 bis 18 Uhr sowie am Pfingstmontag. Der Eintritt ist frei.
URL:https://verborgene-horizonte.de/event/krystyna-albrecht-stilistische-schoenheiten-4/
LOCATION:Rathausgalerie\, Stadtplatz 27\, Vilahofen\, BY\, 94474
CATEGORIES:Ausstellung
ATTACH;FMTTYPE=image/jpeg:https://verborgene-horizonte.de/wp-content/uploads/2026/03/Krystyana-Albrecht-02.jpg
END:VEVENT
END:VCALENDAR